Package: seq2pathway Version: 1.39.0 Command: /Library/Frameworks/R.framework/Resources/bin/R CMD build --keep-empty-dirs --no-resave-data seq2pathway StartedAt: 2025-02-02 18:12:17 -0500 (Sun, 02 Feb 2025) EndedAt: 2025-02-02 18:13:26 -0500 (Sun, 02 Feb 2025) EllapsedTime: 68.5 seconds RetCode: 0 Status: OK PackageFile: seq2pathway_1.39.0.tar.gz PackageFileSize: 1.417 MiB