Package: seq.hotSPOT Version: 1.7.0 Command: /home/biocbuild/R/R/bin/R CMD INSTALL seq.hotSPOT StartedAt: 2025-01-29 19:34:46 -0000 (Wed, 29 Jan 2025) EndedAt: 2025-01-29 19:35:14 -0000 (Wed, 29 Jan 2025) EllapsedTime: 28.2 seconds RetCode: 0 Status: OK