Package: seq.hotSPOT Version: 1.7.0 Command: /home/biocbuild/R/R/bin/R CMD check --install=check:seq.hotSPOT.install-out.txt --library=/home/biocbuild/R/R/site-library --no-vignettes --timings seq.hotSPOT_1.7.0.tar.gz StartedAt: 2025-01-28 15:12:31 -0000 (Tue, 28 Jan 2025) EndedAt: 2025-01-28 15:13:04 -0000 (Tue, 28 Jan 2025) EllapsedTime: 33.0 seconds RetCode: 0 Status: OK CheckDir: seq.hotSPOT.Rcheck Warnings: 0