Package: seq.hotSPOT Version: 1.9.0 Maintainer: Sydney Grant MaintainerEmail: sydney.grant at roswellpark.org git_url: https://git.bioconductor.org/packages/seq.hotSPOT git_branch: devel git_last_commit: 7db9d8f git_last_commit_date: 2025-04-15 13:13:26 -0400 (Tue, 15 Apr 2025)