Package: selectKSigs Version: 1.19.0 Command: E:\biocbuild\bbs-3.21-bioc\R\bin\R.exe CMD INSTALL selectKSigs StartedAt: 2025-02-10 16:24:33 -0500 (Mon, 10 Feb 2025) EndedAt: 2025-02-10 16:25:28 -0500 (Mon, 10 Feb 2025) EllapsedTime: 54.2 seconds RetCode: 0 Status: OK