Package: selectKSigs Version: 1.21.0 Command: /home/biocbuild/bbs-3.22-bioc/R/bin/R CMD INSTALL selectKSigs StartedAt: 2025-10-03 15:59:22 -0400 (Fri, 03 Oct 2025) EndedAt: 2025-10-03 15:59:36 -0400 (Fri, 03 Oct 2025) EllapsedTime: 14.4 seconds RetCode: 0 Status: OK