Package: selectKSigs Version: 1.21.0 Command: /home/biocbuild/bbs-3.22-bioc/R/bin/R CMD build --keep-empty-dirs --no-resave-data --md5 selectKSigs StartedAt: 2025-10-03 19:58:23 -0400 (Fri, 03 Oct 2025) EndedAt: 2025-10-03 20:00:02 -0400 (Fri, 03 Oct 2025) EllapsedTime: 99.1 seconds RetCode: 0 Status: OK PackageFile: selectKSigs_1.21.0.tar.gz PackageFileSize: 392.1 KiB