Package: selectKSigs Version: 1.19.0 Command: /home/biocbuild/bbs-3.21-bioc/R/bin/R CMD INSTALL selectKSigs StartedAt: 2025-02-03 16:07:59 -0500 (Mon, 03 Feb 2025) EndedAt: 2025-02-03 16:08:12 -0500 (Mon, 03 Feb 2025) EllapsedTime: 13.3 seconds RetCode: 0 Status: OK