Package: selectKSigs Version: 1.19.0 Command: /home/biocbuild/bbs-3.21-bioc/R/bin/R CMD build --keep-empty-dirs --no-resave-data selectKSigs StartedAt: 2025-02-05 19:14:02 -0500 (Wed, 05 Feb 2025) EndedAt: 2025-02-05 19:15:29 -0500 (Wed, 05 Feb 2025) EllapsedTime: 87.1 seconds RetCode: 0 Status: OK PackageFile: selectKSigs_1.19.0.tar.gz PackageFileSize: 391.2 KiB