Package: selectKSigs Version: 1.19.0 Command: /Library/Frameworks/R.framework/Resources/bin/R CMD INSTALL selectKSigs StartedAt: 2025-02-02 15:22:13 -0500 (Sun, 02 Feb 2025) EndedAt: 2025-02-02 15:22:30 -0500 (Sun, 02 Feb 2025) EllapsedTime: 17.7 seconds RetCode: 0 Status: OK