Package: selectKSigs Version: 1.19.0 Command: /Library/Frameworks/R.framework/Resources/bin/R CMD check --install=check:selectKSigs.install-out.txt --library=/Library/Frameworks/R.framework/Resources/library --no-vignettes --timings selectKSigs_1.19.0.tar.gz StartedAt: 2025-02-05 23:11:27 -0500 (Wed, 05 Feb 2025) EndedAt: 2025-02-05 23:14:03 -0500 (Wed, 05 Feb 2025) EllapsedTime: 156.1 seconds RetCode: 0 Status: OK CheckDir: selectKSigs.Rcheck Warnings: 0