Package: selectKSigs Version: 1.19.0 Command: /Library/Frameworks/R.framework/Resources/bin/R CMD build --keep-empty-dirs --no-resave-data selectKSigs StartedAt: 2025-02-05 18:17:16 -0500 (Wed, 05 Feb 2025) EndedAt: 2025-02-05 18:19:07 -0500 (Wed, 05 Feb 2025) EllapsedTime: 110.9 seconds RetCode: 0 Status: OK PackageFile: selectKSigs_1.19.0.tar.gz PackageFileSize: 399.6 KiB