Package: selectKSigs Version: 1.19.0 Command: /home/biocbuild/R/R/bin/R CMD INSTALL selectKSigs StartedAt: 2025-01-29 19:57:56 -0000 (Wed, 29 Jan 2025) EndedAt: 2025-01-29 19:58:16 -0000 (Wed, 29 Jan 2025) EllapsedTime: 20.5 seconds RetCode: 0 Status: OK