Package: selectKSigs Version: 1.21.0 Command: /Library/Frameworks/R.framework/Resources/bin/R CMD check --install=check:selectKSigs.install-out.txt --library=/Library/Frameworks/R.framework/Resources/library --no-vignettes --timings selectKSigs_1.21.0.tar.gz StartedAt: 2025-04-27 21:21:12 -0400 (Sun, 27 Apr 2025) EndedAt: 2025-04-27 21:22:01 -0400 (Sun, 27 Apr 2025) EllapsedTime: 48.8 seconds RetCode: 0 Status: OK CheckDir: selectKSigs.Rcheck Warnings: 0