Package: selectKSigs Version: 1.21.0 Command: /Library/Frameworks/R.framework/Resources/bin/R CMD build --keep-empty-dirs --no-resave-data selectKSigs StartedAt: 2025-04-27 17:33:22 -0400 (Sun, 27 Apr 2025) EndedAt: 2025-04-27 17:34:00 -0400 (Sun, 27 Apr 2025) EllapsedTime: 37.4 seconds RetCode: 0 Status: OK PackageFile: selectKSigs_1.21.0.tar.gz PackageFileSize: 406.5 KiB