Package: selectKSigs Version: 1.21.0 Command: rm -rf selectKSigs.buildbin-libdir && mkdir selectKSigs.buildbin-libdir && /Users/biocbuild/BBS/utils/build-universal.sh selectKSigs_1.21.0.tar.gz /Library/Frameworks/R.framework/Resources/bin/R selectKSigs.buildbin-libdir StartedAt: 2025-04-27 22:30:54 -0400 (Sun, 27 Apr 2025) EndedAt: 2025-04-27 22:31:00 -0400 (Sun, 27 Apr 2025) EllapsedTime: 6.1 seconds RetCode: 0 Status: OK PackageFile: selectKSigs_1.21.0.tgz PackageFileSize: 489.8 KiB