Package: selectKSigs Version: 1.19.0 Maintainer: Zhi Yang MaintainerEmail: zyang895 at gmail.com git_url: https://git.bioconductor.org/packages/selectKSigs git_branch: devel git_last_commit: 9e6184b git_last_commit_date: 2024-10-29 10:42:09 -0500 (Tue, 29 Oct 2024)