Package: segmenter Version: 1.13.0 Command: E:\biocbuild\bbs-3.21-bioc\R\bin\R.exe CMD INSTALL segmenter StartedAt: 2025-02-03 16:59:46 -0500 (Mon, 03 Feb 2025) EndedAt: 2025-02-03 17:00:52 -0500 (Mon, 03 Feb 2025) EllapsedTime: 65.8 seconds RetCode: 0 Status: OK