Package: segmenter Version: 1.13.0 Command: rm -rf segmenter.buildbin-libdir && mkdir segmenter.buildbin-libdir && E:\biocbuild\bbs-3.21-bioc\R\bin\R.exe CMD INSTALL --build --library=segmenter.buildbin-libdir segmenter_1.13.0.tar.gz StartedAt: 2025-02-04 08:54:06 -0500 (Tue, 04 Feb 2025) EndedAt: 2025-02-04 08:55:17 -0500 (Tue, 04 Feb 2025) EllapsedTime: 70.8 seconds RetCode: 0 Status: OK PackageFile: segmenter_1.13.0.zip PackageFileSize: 4.267 MiB