Package: segmenter Version: 1.15.0 Command: /home/biocbuild/bbs-3.22-bioc/R/bin/R CMD check --install=check:segmenter.install-out.txt --library=/home/biocbuild/bbs-3.22-bioc/R/site-library --timings segmenter_1.15.0.tar.gz StartedAt: 2025-10-16 04:50:21 -0400 (Thu, 16 Oct 2025) EndedAt: 2025-10-16 05:07:08 -0400 (Thu, 16 Oct 2025) EllapsedTime: 1007.1 seconds RetCode: 0 Status: OK CheckDir: segmenter.Rcheck Warnings: 0