Package: segmenter Version: 1.13.0 Command: /home/biocbuild/bbs-3.21-bioc/R/bin/R CMD INSTALL segmenter StartedAt: 2025-02-03 16:07:04 -0500 (Mon, 03 Feb 2025) EndedAt: 2025-02-03 16:07:47 -0500 (Mon, 03 Feb 2025) EllapsedTime: 42.5 seconds RetCode: 0 Status: OK