Package: segmenter Version: 1.13.0 Command: /Library/Frameworks/R.framework/Resources/bin/R CMD INSTALL segmenter StartedAt: 2025-02-03 15:38:51 -0500 (Mon, 03 Feb 2025) EndedAt: 2025-02-03 15:39:46 -0500 (Mon, 03 Feb 2025) EllapsedTime: 55.8 seconds RetCode: 0 Status: OK