Package: segmenter Version: 1.13.0 Command: /Library/Frameworks/R.framework/Resources/bin/R CMD build --keep-empty-dirs --no-resave-data segmenter StartedAt: 2025-02-03 18:21:14 -0500 (Mon, 03 Feb 2025) EndedAt: 2025-02-03 18:28:26 -0500 (Mon, 03 Feb 2025) EllapsedTime: 431.7 seconds RetCode: 0 Status: OK PackageFile: segmenter_1.13.0.tar.gz PackageFileSize: 3.995 MiB