Package: segmenter Version: 1.13.0 Command: /home/biocbuild/R/R/bin/R CMD INSTALL segmenter StartedAt: 2025-01-29 20:18:44 -0000 (Wed, 29 Jan 2025) EndedAt: 2025-01-29 20:19:44 -0000 (Wed, 29 Jan 2025) EllapsedTime: 60.2 seconds RetCode: 0 Status: OK