Package: segmenter Version: 1.13.0 Command: /home/biocbuild/R/R/bin/R CMD check --install=check:segmenter.install-out.txt --library=/home/biocbuild/R/R/site-library --no-vignettes --timings segmenter_1.13.0.tar.gz StartedAt: 2025-01-28 15:11:53 -0000 (Tue, 28 Jan 2025) EndedAt: 2025-01-28 15:21:54 -0000 (Tue, 28 Jan 2025) EllapsedTime: 601.8 seconds RetCode: 0 Status: OK CheckDir: segmenter.Rcheck Warnings: 0