Package: segmenter Version: 1.13.0 Command: /home/biocbuild/R/R/bin/R CMD build --keep-empty-dirs --no-resave-data segmenter StartedAt: 2025-01-29 02:16:01 -0000 (Wed, 29 Jan 2025) EndedAt: 2025-01-29 02:29:08 -0000 (Wed, 29 Jan 2025) EllapsedTime: 786.9 seconds RetCode: 0 Status: OK PackageFile: segmenter_1.13.0.tar.gz PackageFileSize: 3.909 MiB