Package: sechm Version: 1.17.1 Command: /home/biocbuild/bbs-3.22-bioc/R/bin/R CMD INSTALL sechm StartedAt: 2025-09-29 15:18:06 -0400 (Mon, 29 Sep 2025) EndedAt: 2025-09-29 15:18:36 -0400 (Mon, 29 Sep 2025) EllapsedTime: 30.2 seconds RetCode: 0 Status: OK