Package: sechm Version: 1.15.0 Command: /home/biocbuild/bbs-3.21-bioc/R/bin/R CMD build --keep-empty-dirs --no-resave-data sechm StartedAt: 2025-02-02 19:08:34 -0500 (Sun, 02 Feb 2025) EndedAt: 2025-02-02 19:09:42 -0500 (Sun, 02 Feb 2025) EllapsedTime: 68.1 seconds RetCode: 0 Status: OK PackageFile: sechm_1.15.0.tar.gz PackageFileSize: 1.049 MiB