Package: sechm Version: 1.17.1 Command: /Library/Frameworks/R.framework/Resources/bin/R CMD check --install=check:sechm.install-out.txt --library=/Library/Frameworks/R.framework/Resources/library --no-vignettes --timings sechm_1.17.1.tar.gz StartedAt: 2025-05-02 23:26:56 -0400 (Fri, 02 May 2025) EndedAt: 2025-05-02 23:30:19 -0400 (Fri, 02 May 2025) EllapsedTime: 203.0 seconds RetCode: 0 Status: OK CheckDir: sechm.Rcheck Warnings: 0