Package: sechm Version: 1.17.1 Command: /Library/Frameworks/R.framework/Resources/bin/R CMD check --install=check:sechm.install-out.txt --library=/Library/Frameworks/R.framework/Resources/library --no-vignettes --timings sechm_1.17.1.tar.gz StartedAt: 2025-05-06 21:55:57 -0400 (Tue, 06 May 2025) EndedAt: 2025-05-06 21:57:15 -0400 (Tue, 06 May 2025) EllapsedTime: 77.9 seconds RetCode: 0 Status: OK CheckDir: sechm.Rcheck Warnings: 0