Package: sechm Version: 1.17.1 Command: /Library/Frameworks/R.framework/Resources/bin/R CMD build --keep-empty-dirs --no-resave-data sechm StartedAt: 2025-05-06 17:40:18 -0400 (Tue, 06 May 2025) EndedAt: 2025-05-06 17:40:53 -0400 (Tue, 06 May 2025) EllapsedTime: 34.4 seconds RetCode: 0 Status: OK PackageFile: sechm_1.17.1.tar.gz PackageFileSize: 1.051 MiB