Package: seahtrue Version: 1.3.0 Command: chmod a+r seahtrue -R && F:\biocbuild\bbs-3.22-bioc\R\bin\R.exe CMD build --keep-empty-dirs --no-resave-data seahtrue StartedAt: 2025-08-14 23:12:09 -0400 (Thu, 14 Aug 2025) EndedAt: 2025-08-14 23:16:30 -0400 (Thu, 14 Aug 2025) EllapsedTime: 260.5 seconds RetCode: 0 Status: OK PackageFile: seahtrue_1.3.0.tar.gz PackageFileSize: 3.321 MiB