Package: seahtrue Version: 1.3.0 Command: rm -rf seahtrue.buildbin-libdir && mkdir seahtrue.buildbin-libdir && /Users/biocbuild/BBS/utils/build-universal.sh seahtrue_1.3.0.tar.gz /Library/Frameworks/R.framework/Resources/bin/R seahtrue.buildbin-libdir StartedAt: 2025-10-14 23:38:05 -0400 (Tue, 14 Oct 2025) EndedAt: 2025-10-14 23:38:10 -0400 (Tue, 14 Oct 2025) EllapsedTime: 4.1 seconds RetCode: 0 Status: OK PackageFile: seahtrue_1.3.0.tgz PackageFileSize: 3.39 MiB