Package: seahtrue Version: 1.3.0 Maintainer: Vincent de Boer MaintainerEmail: vincent.deboer at wur.nl git_url: https://git.bioconductor.org/packages/seahtrue git_branch: devel git_last_commit: ab17164 git_last_commit_date: 2025-04-15 13:38:41 -0400 (Tue, 15 Apr 2025)