Package: scviR Version: 1.9.11 Command: chmod a+r scviR -R && F:\biocbuild\bbs-3.22-bioc\R\bin\R.exe CMD build --keep-empty-dirs --no-resave-data scviR StartedAt: 2025-08-14 23:11:52 -0400 (Thu, 14 Aug 2025) EndedAt: 2025-08-14 23:13:10 -0400 (Thu, 14 Aug 2025) EllapsedTime: 78.4 seconds RetCode: 1 Status: ERROR PackageFile: None PackageFileSize: NA