Package: scviR Version: 1.9.11 Maintainer: Vincent Carey MaintainerEmail: stvjc at channing.harvard.edu git_url: https://git.bioconductor.org/packages/scviR git_branch: devel git_last_commit: 5dd474c git_last_commit_date: 2025-05-12 05:55:48 -0400 (Mon, 12 May 2025)