Package: scuttle Version: 1.17.0 Command: E:\biocbuild\bbs-3.21-bioc\R\bin\R.exe CMD INSTALL scuttle StartedAt: 2025-02-16 16:07:59 -0500 (Sun, 16 Feb 2025) EndedAt: 2025-02-16 16:09:38 -0500 (Sun, 16 Feb 2025) EllapsedTime: 98.4 seconds RetCode: 0 Status: OK