Package: scuttle Version: 1.17.0 Command: E:\biocbuild\bbs-3.21-bioc\R\bin\R.exe CMD check --no-multiarch --install=check:scuttle.install-out.txt --library=E:\biocbuild\bbs-3.21-bioc\R\library --no-vignettes --timings scuttle_1.17.0.tar.gz StartedAt: 2025-02-17 05:04:30 -0500 (Mon, 17 Feb 2025) EndedAt: 2025-02-17 05:15:11 -0500 (Mon, 17 Feb 2025) EllapsedTime: 641.3 seconds RetCode: 0 Status: OK CheckDir: scuttle.Rcheck Warnings: 0