Package: scuttle Version: 1.17.0 Command: /Library/Frameworks/R.framework/Resources/bin/R CMD check --install=check:scuttle.install-out.txt --library=/Library/Frameworks/R.framework/Resources/library --no-vignettes --timings scuttle_1.17.0.tar.gz StartedAt: 2025-02-16 23:01:49 -0500 (Sun, 16 Feb 2025) EndedAt: 2025-02-16 23:07:57 -0500 (Sun, 16 Feb 2025) EllapsedTime: 368.4 seconds RetCode: 0 Status: OK CheckDir: scuttle.Rcheck Warnings: 0