Package: scuttle Version: 1.19.0 Maintainer: Aaron Lun MaintainerEmail: infinite.monkeys.with.keyboards at gmail.com git_url: https://git.bioconductor.org/packages/scuttle git_branch: devel git_last_commit: bdcc1f8 git_last_commit_date: 2025-04-15 11:59:18 -0400 (Tue, 15 Apr 2025)