Package: scruff Version: 1.25.0 Command: /Library/Frameworks/R.framework/Resources/bin/R CMD build --keep-empty-dirs --no-resave-data scruff StartedAt: 2025-02-03 18:19:31 -0500 (Mon, 03 Feb 2025) EndedAt: 2025-02-03 18:21:49 -0500 (Mon, 03 Feb 2025) EllapsedTime: 138.1 seconds RetCode: 0 Status: OK PackageFile: scruff_1.25.0.tar.gz PackageFileSize: 1.711 MiB