Package: scruff Version: 1.25.0 Command: /home/biocbuild/R/R/bin/R CMD INSTALL scruff StartedAt: 2025-01-29 20:11:16 -0000 (Wed, 29 Jan 2025) EndedAt: 2025-01-29 20:12:36 -0000 (Wed, 29 Jan 2025) EllapsedTime: 80.1 seconds RetCode: 0 Status: OK