Package: scruff Version: 1.25.0 Command: /Library/Frameworks/R.framework/Resources/bin/R CMD INSTALL scruff StartedAt: 2025-02-03 15:52:20 -0500 (Mon, 03 Feb 2025) EndedAt: 2025-02-03 15:52:46 -0500 (Mon, 03 Feb 2025) EllapsedTime: 25.7 seconds RetCode: 0 Status: OK