Package: screenCounter Version: 1.9.0 Command: /Library/Frameworks/R.framework/Resources/bin/R CMD INSTALL screenCounter StartedAt: 2025-05-18 15:09:07 -0400 (Sun, 18 May 2025) EndedAt: 2025-05-18 15:09:33 -0400 (Sun, 18 May 2025) EllapsedTime: 25.5 seconds RetCode: 0 Status: OK