Package: screenCounter Version: 1.9.0 Command: rm -rf screenCounter.buildbin-libdir && mkdir screenCounter.buildbin-libdir && /Users/biocbuild/BBS/utils/build-universal.sh screenCounter_1.9.0.tar.gz /Library/Frameworks/R.framework/Resources/bin/R screenCounter.buildbin-libdir StartedAt: 2025-05-20 22:23:02 -0400 (Tue, 20 May 2025) EndedAt: 2025-05-20 22:23:30 -0400 (Tue, 20 May 2025) EllapsedTime: 27.5 seconds RetCode: 0 Status: OK PackageFile: screenCounter_1.9.0.tgz PackageFileSize: 528.9 KiB