Package: scrapper Version: 1.1.12 Command: /home/biocbuild/R/R/bin/R CMD INSTALL scrapper StartedAt: 2025-01-29 19:44:15 -0000 (Wed, 29 Jan 2025) EndedAt: 2025-01-29 19:53:19 -0000 (Wed, 29 Jan 2025) EllapsedTime: 543.6 seconds RetCode: 0 Status: OK