Package: scp Version: 1.19.3 Command: rm -rf scp.buildbin-libdir && mkdir scp.buildbin-libdir && F:\biocbuild\bbs-3.22-bioc\R\bin\R.exe CMD INSTALL --build --library=scp.buildbin-libdir scp_1.19.3.tar.gz StartedAt: 2025-08-12 10:21:37 -0400 (Tue, 12 Aug 2025) EndedAt: 2025-08-12 10:22:39 -0400 (Tue, 12 Aug 2025) EllapsedTime: 61.5 seconds RetCode: 0 Status: OK PackageFile: scp_1.19.3.zip PackageFileSize: 4.997 MiB