Package: scp Version: 1.17.0 Command: /home/biocbuild/bbs-3.21-bioc/R/bin/R CMD check --install=check:scp.install-out.txt --library=/home/biocbuild/bbs-3.21-bioc/R/site-library --timings scp_1.17.0.tar.gz StartedAt: 2025-02-17 02:02:54 -0500 (Mon, 17 Feb 2025) EndedAt: 2025-02-17 02:14:20 -0500 (Mon, 17 Feb 2025) EllapsedTime: 685.9 seconds RetCode: 0 Status: OK CheckDir: scp.Rcheck Warnings: 0