Package: scp Version: 1.17.0 Command: /home/biocbuild/bbs-3.21-bioc/R/bin/R CMD build --keep-empty-dirs --no-resave-data scp StartedAt: 2025-02-16 19:04:02 -0500 (Sun, 16 Feb 2025) EndedAt: 2025-02-16 19:07:59 -0500 (Sun, 16 Feb 2025) EllapsedTime: 237.2 seconds RetCode: 0 Status: OK PackageFile: scp_1.17.0.tar.gz PackageFileSize: 8.491 MiB