Package: scp Version: 1.19.3 Command: /Library/Frameworks/R.framework/Resources/bin/R CMD INSTALL scp StartedAt: 2025-07-23 15:19:22 -0400 (Wed, 23 Jul 2025) EndedAt: 2025-07-23 15:19:35 -0400 (Wed, 23 Jul 2025) EllapsedTime: 12.4 seconds RetCode: 0 Status: OK